BEGIN:VCALENDAR
VERSION:2.0
PRODID:-//BRASSBAND BREUKELEN - ECPv6.15.20//NONSGML v1.0//EN
CALSCALE:GREGORIAN
METHOD:PUBLISH
X-WR-CALNAME:BRASSBAND BREUKELEN
X-ORIGINAL-URL:https://www.brassbandbreukelen.nl
X-WR-CALDESC:Evenementen voor BRASSBAND BREUKELEN
REFRESH-INTERVAL;VALUE=DURATION:PT1H
X-Robots-Tag:noindex
X-PUBLISHED-TTL:PT1H
BEGIN:VTIMEZONE
TZID:Europe/Amsterdam
BEGIN:DAYLIGHT
TZOFFSETFROM:+0100
TZOFFSETTO:+0200
TZNAME:CEST
DTSTART:20250330T010000
END:DAYLIGHT
BEGIN:STANDARD
TZOFFSETFROM:+0200
TZOFFSETTO:+0100
TZNAME:CET
DTSTART:20251026T010000
END:STANDARD
BEGIN:DAYLIGHT
TZOFFSETFROM:+0100
TZOFFSETTO:+0200
TZNAME:CEST
DTSTART:20260329T010000
END:DAYLIGHT
BEGIN:STANDARD
TZOFFSETFROM:+0200
TZOFFSETTO:+0100
TZNAME:CET
DTSTART:20261025T010000
END:STANDARD
BEGIN:DAYLIGHT
TZOFFSETFROM:+0100
TZOFFSETTO:+0200
TZNAME:CEST
DTSTART:20270328T010000
END:DAYLIGHT
BEGIN:STANDARD
TZOFFSETFROM:+0200
TZOFFSETTO:+0100
TZNAME:CET
DTSTART:20271031T010000
END:STANDARD
END:VTIMEZONE
BEGIN:VEVENT
DTSTART;VALUE=DATE:20260321
DTEND;VALUE=DATE:20260322
DTSTAMP:20260425T174910
CREATED:20251221T222835Z
LAST-MODIFIED:20260206T195717Z
UID:2210-1774051200-1774137599@www.brassbandbreukelen.nl
SUMMARY:Brass with a Bite: Italië
DESCRIPTION:Tickets: https://www.ticketkantoor.nl/shop/bwab2026
URL:https://www.brassbandbreukelen.nl/event/brass-with-a-bite-musica-italiana/
LOCATION:RSG Broklede\, Schepersweg 6a\, Breukelen
ATTACH;FMTTYPE=image/jpeg:https://www.brassbandbreukelen.nl/wp-content/uploads/2025/12/BWAB2026.jpeg
END:VEVENT
END:VCALENDAR